BEGIN:VCALENDAR
VERSION:2.0
PRODID:-//Jazz-Initiative Eifel e. V.//NONSGML kigkonsult.se iCalcreator 2.41.92//
CALSCALE:GREGORIAN
METHOD:PUBLISH
UID:65623831-3536-4638-b563-653033393735
X-WR-CALNAME:iCagenda
X-WR-CALDESC:Event Management Extension for Joomla!
X-WR-RELCALID:3E26604A-50F4-4449-8B3E-E4F4932D05B5
X-WR-TIMEZONE:UTC
BEGIN:VTIMEZONE
TZID:UTC
END:VTIMEZONE
BEGIN:VEVENT
UID:30623363-6633-4162-b730-386539313636
DTSTAMP:20260420T220508Z
CATEGORIES:Kulturfreunde-Pruem
CLASS:PUBLIC
DESCRIPTION;ALTREP="CID:<FFFF__=0ABBE548DFE235B58f9e8a93d@coffeebean.com>":
 Erleben Sie wilde Entfesselungen\, wahnwitzige Kartentricks\, atemberauben
 de Spannung\, perfekte Körperbeherrschung\, Wortwitz der Extraklasse\, ung
 laubliche Zauberei\, actiongeladene Stunts – mit anderen Worten eine Show 
 die ihres Gleichen sucht…\nEin temporeicher Mix aus abgehobenen Kunststück
 en und dem absoluten Blödsinn.Am Ende bleibt nur die Frage\, ob das Erlebt
 e eine optische Täuschung war oder nicht?\nDazu wird es ein leckeres Dinne
 r aus der Brauhausküche geben.\n3 Gang Menü 21.4.24\nVorspeise Bärlauch-Cr
 eme-Suppe mit Käse crisini\nHauptgang Maispouladenbrust mit Tomaten-Risott
 o gegrilltem Spargel und Rosmarin Jus\nDessert&nbsp\;Bieramisu\nBeitrag fü
 r Dinner und Magic-Show 55\,-€ p.P.&nbsp\;Es wird um verbindliche Anmeldun
 gen gebeten.01714888925\, nahrings@t-online.de
DTSTART:20240421T183000Z
DTEND:20240421T220000Z
GEO:00;0
LOCATION:Prümer Brauhaus
ORGANIZER;CN=:mailto:info@kulturfreunde-pruem.de
SEQUENCE:1
SUMMARY:Magic Dinner mit Siggi The Magician im Prümer Brauhaus
TRANSP:OPAQUE
URL:http://jazztaxi.de/alle-termine/405-magic-dinner-im-pruemer-brauhaus
END:VEVENT
END:VCALENDAR
