BEGIN:VCALENDAR
VERSION:2.0
PRODID:-//Jazz-Initiative Eifel e. V.//NONSGML kigkonsult.se iCalcreator 2.41.92//
CALSCALE:GREGORIAN
METHOD:PUBLISH
UID:38386239-6662-4061-b334-383262646465
X-WR-CALNAME:iCagenda
X-WR-CALDESC:Event Management Extension for Joomla!
X-WR-RELCALID:3E26604A-50F4-4449-8B3E-E4F4932D05B5
X-WR-TIMEZONE:UTC
BEGIN:VTIMEZONE
TZID:UTC
END:VTIMEZONE
BEGIN:VEVENT
UID:62323730-3961-4631-a564-363437376438
DTSTAMP:20260420T154122Z
CATEGORIES:Summer-Jazz Festival
CLASS:PUBLIC
DESCRIPTION;ALTREP="CID:<FFFF__=0ABBE548DFE235B58f9e8a93d@coffeebean.com>":
 Summer-Jazz: Red Onions Jazzband will Besucher ins Dixieland entführen\nDe
 r nächste Mittwochabend gehört im Bedagarten mal wieder dem Jazz - um gena
 u zu sein\, dem Dixieland und dem Old-Time-Jazz der goldenen Zeit der 1920
 er- und 30er-Jahre des brodelnden New Orleans.\nMit den Red Onions spielt 
 eine junge\, alte Formation in klassischer Besetzung (ohne Klarinette) mit
  Bandleader Volkmar Trüb am Banjo\, dem Pianisten Rudi Lehmann\, Martin La
 nger an Sousaphon und Kontrabass\, dem routinierten Trompeter Peter Hesse\
 , dem gefühlvollen Sopransaxophonisten Günter Backhaus und dem ausgezeichn
 eten jungen Posaunisten Elmar Feldmann.\nEin anspruchsvoller Name\, bracht
 en doch die Red Onion Jazz Babies 1927 unter anderem Louis Armstrong\, Sid
 ney Bechet und Buddy Christian gemeinsam auf die Bühne. Nun schmückt einig
 e der Herren durchaus schon graues Haar\, denn die Routiniers haben sich a
 us verschiedenen regional renommierten Bands zusammengefunden. Das erklärt
  auch das enorme Repertoire\, mit dem sie den Summer-Jazz vergnüglich gest
 alten werden.\nSummer Jazz im Bedagarten ist eine Gemeinschaftsveranstaltu
 ng der Jazz-Initiative Eifel\, der Kulturgemeinschaft und der Dr.-Hans-Sim
 on-Stiftung.\nDer Auftritt ist am Mittwoch\, 01. August 2018 ab 19 Uhr.\nS
 ummer Jazz im Bedagarten ist eine Gemeinschaftsveranstaltung der Jazz-Init
 iative Eifel\, der Kulturgemeinschaft Bitburg und der Dr.-Hanns-Simon-Stif
 tung.
DTSTART:20180801T190000Z
DTEND:20180801T213000Z
GEO:00;0
LOCATION:Garten Haus Beda\, Bitburg
ORGANIZER:
SEQUENCE:1
SUMMARY:Red Onions Jazzband
TRANSP:OPAQUE
URL:http://jazztaxi.de/alle-termine/4-red-onions-jazzband
END:VEVENT
END:VCALENDAR
