BEGIN:VCALENDAR
VERSION:2.0
PRODID:-//Jazz-Initiative Eifel e. V.//NONSGML kigkonsult.se iCalcreator 2.41.92//
CALSCALE:GREGORIAN
METHOD:PUBLISH
UID:35373066-3763-4966-b834-616132353635
X-WR-CALNAME:iCagenda
X-WR-CALDESC:Event Management Extension for Joomla!
X-WR-RELCALID:3E26604A-50F4-4449-8B3E-E4F4932D05B5
X-WR-TIMEZONE:UTC
BEGIN:VTIMEZONE
TZID:UTC
END:VTIMEZONE
BEGIN:VEVENT
UID:36623364-6433-4063-b632-636661353635
DTSTAMP:20260420T221431Z
CATEGORIES:Workshops
CLASS:PUBLIC
DESCRIPTION;ALTREP="CID:<FFFF__=0ABBE548DFE235B58f9e8a93d@coffeebean.com>":
 Lust Lindy Hop auszuprobieren? Am Sonntag\, den 01.02.2024 bietet der Lind
 y Hop Circle Trier e.V. einen kostenlosen Schnupperkurs in der Hochschule 
 Trier (Mensa)\, Irminenfreihof 8\, 54290 Trieran. Es ist keine Anmeldung n
 otwendig. Man kann einfach spontan vorbeikommen\, allein oder mit Partner/
 in. Wir freuen uns auf euch!\nAlle weiteren Informationen generell zum Ver
 ein und der Veranstaltung sind auf unserer Website zu finden:\nhttps://lin
 dyhopcircletrier.de/
DTSTART:20240201T200600Z
DTEND:20240201T200600Z
GEO:00;0
LOCATION:Hochschule Trier (Mensa)\, Irminenfreihof 8\, 54290 Trier
ORGANIZER;CN=:mailto:info@lindyhopcircletrier.de
SEQUENCE:1
SUMMARY:Lindy Hop Schnupperkurs
TRANSP:OPAQUE
URL:http://jazztaxi.de/alle-termine/396-lindy-hop-schnupperkurs-2/2024-02-0
 1-20-06
END:VEVENT
END:VCALENDAR
