BEGIN:VCALENDAR
VERSION:2.0
PRODID:-//Jazz-Initiative Eifel e. V.//NONSGML kigkonsult.se iCalcreator 2.41.92//
CALSCALE:GREGORIAN
METHOD:PUBLISH
UID:35616531-6664-4633-a439-373666616630
X-WR-CALNAME:iCagenda
X-WR-CALDESC:Event Management Extension for Joomla!
X-WR-RELCALID:3E26604A-50F4-4449-8B3E-E4F4932D05B5
X-WR-TIMEZONE:UTC
BEGIN:VTIMEZONE
TZID:UTC
END:VTIMEZONE
BEGIN:VEVENT
UID:36343831-3432-4939-a331-636164666138
DTSTAMP:20260420T205320Z
CATEGORIES:Matinee
CLASS:PUBLIC
DESCRIPTION;ALTREP="CID:<FFFF__=0ABBE548DFE235B58f9e8a93d@coffeebean.com>":
 Das Klarinettenensemble QuattroSonora trifft im Schloss Weilerbach auf Sat
 iren\nNach jahrelangen musikalischen Begegnungen in Orchestern und Ensembl
 es vielseitiger Art haben sich Catrin Stecker\, Monika Leufgen\, Sascha Le
 ufgen und Christoph Strupp nun auch auf eigener kammermusikalischer Ebene 
 zusammengefunden.Auf höchstem spielerischen Niveau und mit gegenseitiger I
 nspiration gehen sie gemeinsam als QuattroSonora ihrer Leidenschaft für da
 s Quartettspiel nach. Mit abwechslungsreichen authentischen Programmen und
  charmanter Moderation begeistern sie ihr Publikum.\nDas QuattroSonora Qua
 rtett hat sich mittlerweile ein exklusives Repertoire erarbeitet\, das ein
  musikgeschichtliches Spektrum von der Renaissance bis zur zeitgenössische
 n Moderne umfasst. Mit vollendeter Spielkunst\, einer sensiblen und intens
 iven Klangverschmelzung ist für die Zuhörer ein außergewöhnliches Konzert 
 garantiert. In Schloss Weilerbach bieten sie ein recht buntes Programm\, u
 . a. Stücke von William Byrd bis Jaques Brel.\nGisela Wagner\, Trier\, lie
 st Satiren von Ephraim Kishon im Wechsel mit dem Quartett. Sie war schon b
 ei einer früheren Matinée zu Gast und konnte die Besucher überzeugen. Sie 
 verfügt über einen reichen Erfahrungsschatz in diesem Genre.\nDiese Matiné
 e findet statt am Sonntag\, 6. Oktober 2024 von 11 – 12.30 Uhr im Festsaal
  des Schlosses Weilerbach bei Bollendorf.\nDas Ticket kostet 12 Euro\, wer
  anschließend in der Remise auch noch essen möchte\, zahlt 30\,00 Euro. Sc
 hüler und Studenten erhalten auf den Eintrittspreis einen Nachlass von 6\,
 00 Euro.\nKarten gibt es im Vorverkauf unter Fon 0170-5917300.\nDie Matine
 e im Schloss&nbsp\; ist eine Gemeinschaftsveranstaltung der Jazz-Initiativ
 e Eifel und der Schloss-Weilerbach-Gesellschaft.&nbsp\;\n&nbsp\;\nFoto&nbs
 p\;: Veranstalter\nwww.jazzei.de&nbsp\;&nbsp\;&nbsp\;&nbsp\;&nbsp\;&nbsp\;
 &nbsp\;&nbsp\;&nbsp\;&nbsp\;&nbsp\;&nbsp\;&nbsp\;&nbsp\;&nbsp\; www.facebo
 ok.com/jazzeifel
DTSTART:20241006T170300Z
DTEND:20241006T170300Z
GEO:00;0
LOCATION:Schloss Weilerbach/Bollendorf Festsaal
ORGANIZER:
SEQUENCE:1
SUMMARY:Das Klarinettenensemble QuattroSonor trifft im Schloss Weilerbach a
 uf Satiren
TRANSP:OPAQUE
URL:http://jazztaxi.de/alle-termine/395-das-klarinettenensemble-quattrosono
 r-trifft-im-schloss-weilerbach-auf-satiren/2024-10-06-17-03
END:VEVENT
END:VCALENDAR
