BEGIN:VCALENDAR
VERSION:2.0
PRODID:-//Jazz-Initiative Eifel e. V.//NONSGML kigkonsult.se iCalcreator 2.41.92//
CALSCALE:GREGORIAN
METHOD:PUBLISH
UID:65616339-3736-4733-b330-393761393237
X-WR-CALNAME:iCagenda
X-WR-CALDESC:Event Management Extension for Joomla!
X-WR-RELCALID:3E26604A-50F4-4449-8B3E-E4F4932D05B5
X-WR-TIMEZONE:UTC
BEGIN:VTIMEZONE
TZID:UTC
END:VTIMEZONE
BEGIN:VEVENT
UID:62666332-6331-4533-b266-363430343466
DTSTAMP:20260420T222040Z
CATEGORIES:Jazzclub
CLASS:PUBLIC
DESCRIPTION;ALTREP="CID:<FFFF__=0ABBE548DFE235B58f9e8a93d@coffeebean.com>":
 Jazzkonzert von BLUFF im Bitburger Jazzclub\nModerne Jazzmusik wird im Nov
 ember-Jazzclub in Bitburg geboten. Eine Band aus dem Norden wird die Bühne
  rocken: BLUFF.\nBLUFF&nbsp\;&nbsp\;ist&nbsp\;&nbsp\;das&nbsp\;&nbsp\;Proj
 ekt&nbsp\;&nbsp\;vier&nbsp\;&nbsp\;junger&nbsp\;&nbsp\;Jazzmusiker&nbsp\;&
 nbsp\;mit&nbsp\;&nbsp\;Ankerplatz&nbsp\;&nbsp\;Hamburg.&nbsp\;&nbsp\;Das&n
 bsp\;&nbsp\;Quartett&nbsp\;&nbsp\;richtet&nbsp\;seinen&nbsp\;&nbsp\;Kompas
 s&nbsp\;&nbsp\;nach&nbsp\;&nbsp\;der&nbsp\;&nbsp\;jungen&nbsp\;&nbsp\;New&
 nbsp\;&nbsp\;Yorker&nbsp\; Szene&nbsp\;&nbsp\;und&nbsp\;&nbsp\;nimmt&nbsp\
 ;&nbsp\;diese&nbsp\;&nbsp\;Inspirationen&nbsp\;&nbsp\;in&nbsp\;&nbsp\;die&
 nbsp\;eigene&nbsp\;&nbsp\;Musik&nbsp\;&nbsp\;auf.&nbsp\;&nbsp\;So sind&nbs
 p\;&nbsp\;Vorbilder&nbsp\;wie&nbsp\;Ambrose&nbsp\;Akinmusire&nbsp\;und&nbs
 p\;Immanuel&nbsp\;Wilkins&nbsp\;deutlich&nbsp\;&nbsp\;&nbsp\;in den&nbsp\;
 &nbsp\;Kompositionen&nbsp\;&nbsp\;von&nbsp\;&nbsp\;BLUFF&nbsp\;&nbsp\;wied
 erzufinden.&nbsp\;&nbsp\;Die&nbsp\;&nbsp\;vier&nbsp\;&nbsp\;Musiker&nbsp\;
 &nbsp\;verstehen&nbsp\;&nbsp\;sich&nbsp\;&nbsp\;blind\,&nbsp\;&nbsp\;so&nb
 sp\;dass&nbsp\;&nbsp\;sich&nbsp\;&nbsp\;die&nbsp\;&nbsp\;Musik&nbsp\;&nbsp
 \;nahezu&nbsp\;&nbsp\;von&nbsp\;&nbsp\;selbst&nbsp\;&nbsp\;gestaltet:&nbsp
 \;&nbsp\;Von&nbsp\;&nbsp\;der&nbsp\;&nbsp\;Melodie&nbsp\;&nbsp\;ausgehend\
 ,&nbsp\;&nbsp\;brechen&nbsp\;&nbsp\;sie&nbsp\;&nbsp\;in&nbsp\;beachtliche&
 nbsp\;&nbsp\;dynamische&nbsp\;&nbsp\;Bögen&nbsp\;&nbsp\;aus&nbsp\;&nbsp\;u
 nd&nbsp\;finden&nbsp\;dennoch&nbsp\;stets&nbsp\;zur&nbsp\;raffinierten&nbs
 p\;Einfachheit&nbsp\;des&nbsp\;eigenen&nbsp\;&nbsp\;Musikstils&nbsp\;&nbsp
 \;zurück.&nbsp\;&nbsp\;Dabei&nbsp\;strahlt&nbsp\;die&nbsp\;Band&nbsp\;eine
 &nbsp\;Spielfreude&nbsp\;auf&nbsp\;der&nbsp\;Bühne&nbsp\;aus\,&nbsp\;die&n
 bsp\;auf&nbsp\;das&nbsp\;Publikum&nbsp\;überspringt.\nIn&nbsp\;&nbsp\;fünf
 &nbsp\;&nbsp\;Jahren&nbsp\;&nbsp\;als&nbsp\;&nbsp\;feste&nbsp\;&nbsp\;Form
 ation&nbsp\;&nbsp\;war&nbsp\;&nbsp\;BLUFF&nbsp\;&nbsp\;mehrmals&nbsp\;&nbs
 p\;deutschlandweit&nbsp\;&nbsp\;auf&nbsp\;&nbsp\;Tour&nbsp\;&nbsp\;und&nbs
 p\;&nbsp\;kann&nbsp\;unter&nbsp\;&nbsp\;anderem&nbsp\;&nbsp\;Auftritte&nbs
 p\;&nbsp\;beim&nbsp\;&nbsp\;Elbjazz-&nbsp\;&nbsp\;und&nbsp\;&nbsp\;JazzBal
 tica-Festival&nbsp\;&nbsp\;vorweisen&nbsp\;&nbsp\;sowie&nbsp\;&nbsp\;die&n
 bsp\;Ensemble-szeichnung&nbsp\;&nbsp\;des&nbsp\;&nbsp\;Jungen&nbsp\;&nbsp\
 ;Deutschen&nbsp\;&nbsp\;Jazzpreises&nbsp\;&nbsp\;2022.&nbsp\;&nbsp\;Anfang
 &nbsp\;&nbsp\;2023&nbsp\;&nbsp\;folgte&nbsp\;&nbsp\;ihr&nbsp\;Debüt-Album&
 nbsp\;&nbsp\;“Sleight&nbsp\;&nbsp\;of&nbsp\;&nbsp\;Hand”.&nbsp\;&nbsp\;Nun
 &nbsp\;&nbsp\;ist&nbsp\;&nbsp\;es&nbsp\;&nbsp\;Zeit&nbsp\;&nbsp\;für&nbsp\
 ;&nbsp\;ein&nbsp\;&nbsp\;brandneues&nbsp\;&nbsp\;Programm\,&nbsp\;&nbsp\;d
 as&nbsp\;&nbsp\;die&nbsp\;musikalische&nbsp\;&nbsp\;Wendigkeit&nbsp\;&nbsp
 \;und&nbsp\;&nbsp\;Kreativität&nbsp\;&nbsp\;der&nbsp\;&nbsp\;Musiker&nbsp\
 ;&nbsp\;erneut&nbsp\;&nbsp\;unter&nbsp\;&nbsp\;Beweis&nbsp\;&nbsp\;stellt.
 &nbsp\;&nbsp\;Viele&nbsp\;&nbsp\;neue&nbsp\;Eindrücke&nbsp\;also.&nbsp\;Ve
 rsprochen!\nBesetzung: Christian&nbsp\;Höhn&nbsp\;tp\, Tim&nbsp\;Scherer&n
 bsp\;p\, Lucas&nbsp\;Kolbe&nbsp\;b&nbsp\;und Malte&nbsp\;Wiest&nbsp\;dr&nb
 sp\;&nbsp\;\nDer Monday-Night Jazz findet statt am Montag\, 4. 11. 2024\, 
 Beginn 20 Uhr im Jazz-Ballroom im Bowling-Center Bitburg\, Charles-Lindber
 gh-Allee 5. Eintritt frei.\nFoto: Kevin Grützner
DTSTART:20241104T200000Z
DTEND:20241104T200000Z
GEO:00;0
LOCATION:Bitburg\, Jazz-Ballroom im Bowling Center\, Charles-Lindbergh-Alle
 e 5
ORGANIZER:
SEQUENCE:1
SUMMARY:Jazzkonzert von BLUFF im Bitburger Jazzclub
TRANSP:OPAQUE
URL:http://jazztaxi.de/alle-termine/389-jazzkonzert-von-bluff-im-bitburger-
 jazzclub/2024-11-04-20-00
END:VEVENT
END:VCALENDAR
