BEGIN:VCALENDAR
VERSION:2.0
PRODID:-//Jazz-Initiative Eifel e. V.//NONSGML kigkonsult.se iCalcreator 2.41.92//
CALSCALE:GREGORIAN
METHOD:PUBLISH
UID:38333034-3238-4237-a337-393063343535
X-WR-CALNAME:iCagenda
X-WR-CALDESC:Event Management Extension for Joomla!
X-WR-RELCALID:3E26604A-50F4-4449-8B3E-E4F4932D05B5
X-WR-TIMEZONE:UTC
BEGIN:VTIMEZONE
TZID:UTC
END:VTIMEZONE
BEGIN:VEVENT
UID:62383266-6263-4561-a331-663262626537
DTSTAMP:20260420T222040Z
CATEGORIES:Jazzclub
CLASS:PUBLIC
DESCRIPTION;ALTREP="CID:<FFFF__=0ABBE548DFE235B58f9e8a93d@coffeebean.com>":
 Viel Blues im Bitburger Jazzclub mit Eddie Kold Quartett\nDie Jazz-Initiat
 ive Eifel bietet im Bitburger Jazzclub wieder einen musikalischen Leckerbi
 ssen. Mit der Eddie Kold Blues Band kommt&nbsp\;&nbsp\; eine authentische 
 Blues-Band aus den USA\, um einen unvergesslichen Abend voller grooviger K
 länge zu teilen. Die Band besteht aus vier erfahrenen und sehr talentierte
 n Musikern\, die ihre Wurzeln tief im amerikanischen Blues haben und mit i
 hrer leidenschaftlichen Darbietung mitreißen werden.\nDiese Musiker haben 
 sich der Kunst des Blues verschrieben und bringen eine reiche Mischung aus
  traditionellen Klängen und zeitgenössischen Interpretationen bis hin zu s
 ouligen Gesangseinlagen mit.\nEs spielen Christian Wübbens\, Schlagzeug\,&
 nbsp\;Eddie Kold\, Gitarre\,&nbsp\;Klaus&nbsp\;Brunschede\, Bass\, und&nbs
 p\;LarryWatkins\, Gitarre.\nDie Veranstalter freuen sich darauf\, alle Blu
 es- und Jazzfreunde bei diesem einzigartigen Konzerterlebnis begrüßen zu k
 önnen.\nDieses Monday Night Jazzkonzert findet statt am Montag\, 08. April
  2024\, Beginn 20 Uhr im Jazz Ballroom im Bowling Center Bitburg\, Charles
 -Lindbergh-Allee 5. Der Eintritt ist frei.\nFoto. Eddie Kold
DTSTART:20240408T200000Z
DTEND:20240408T200000Z
GEO:00;0
LOCATION:
ORGANIZER:
SEQUENCE:1
SUMMARY:Viel Blues im Bitburger Jazzclub mit Eddie Kold Quartett
TRANSP:OPAQUE
URL:http://jazztaxi.de/alle-termine/385-viel-blues-im-bitburger-jazzclub-mi
 t-eddie-kold-quartett/2024-04-08-20-00
END:VEVENT
END:VCALENDAR
