BEGIN:VCALENDAR
VERSION:2.0
PRODID:-//Jazz-Initiative Eifel e. V.//NONSGML kigkonsult.se iCalcreator 2.41.92//
CALSCALE:GREGORIAN
METHOD:PUBLISH
UID:35303635-6236-4836-b231-303366393631
X-WR-CALNAME:iCagenda
X-WR-CALDESC:Event Management Extension for Joomla!
X-WR-RELCALID:3E26604A-50F4-4449-8B3E-E4F4932D05B5
X-WR-TIMEZONE:UTC
BEGIN:VTIMEZONE
TZID:UTC
END:VTIMEZONE
BEGIN:VEVENT
UID:34623230-6432-4433-b263-633261633461
DTSTAMP:20260420T205157Z
CATEGORIES:Jazzclub im Prümer Brauhaus
CLASS:PUBLIC
DESCRIPTION;ALTREP="CID:<FFFF__=0ABBE548DFE235B58f9e8a93d@coffeebean.com>":
 BLUFF ist das Projekt vier junger Jazzmusiker mit Ankerplatz Hamburg. Das 
 Quartett richtet&nbsp\;seinen Kompass nach der jungen New Yorker Szene und
  nimmt diese Inspirationen in die&nbsp\;eigene Musik auf. So sind Vorbilde
 r wie Ambrose Akinmusire und Immanuel Wilkins deutlich&nbsp\;in den Kompos
 itionen von BLUFF wiederzufinden. Die vier Musiker verstehen sich blind\, 
 so&nbsp\;dass sich die Musik nahezu von selbst gestaltet: Von der Melodie 
 ausgehend brechen sie in&nbsp\;beachtliche dynamische Bögen aus und finden
  dennoch stets zur raffinierten Einfachheit des&nbsp\;eigenen Musikstils z
 urück. Dabei strahlt die Band eine Spielfreude auf der Bühne aus\, die auf
 das Publikum überspringt.&nbsp\;In fünf Jahren als feste Formation war BLU
 FF mehrmals deutschlandweit auf Tour und kann&nbsp\;unter anderem Auftritt
 e beim Elbjazz- und JazzBaltica-Festival vorweisen sowie die&nbsp\;Ensembl
 e-Auszeichnung des Jungen Deutschen Jazzpreises 2022. Anfang 2023 folgte i
 hr&nbsp\;Debüt-Album “Sleight of Hand”. Nun ist es Zeit für ein brandneues
  Programm\, das diemusikalische Wendigkeit und Kreativität der Musiker ern
 eut unter Beweis stellt. Viele neue&nbsp\;Eindrücke also. Versprochen!”Das
  neue Album ist voller Überraschungen\, mit klugen Kompositionen und Arran
 gements\,&nbsp\;großer Dynamik und vor allen Dingen von allen ganz toll in
 terpretiert. Die Musiker&nbsp\;präsentieren auf diesem Album ein musikalis
 ches Kaleidoskop\, das man sich sehr gerne oftanhört. BLUFF ist ein Teil u
 nserer Zuku nft\, schon jetzt.' - Nils LandgrenBesetzung:Christian Höhn tp
 Tim Scherer pLucas Kolbe bMalte Wiest d
DTSTART:20241106T200000Z
DTEND:20241106T220000Z
GEO:00;0
LOCATION:
ORGANIZER:
SEQUENCE:1
SUMMARY:Bluff im Jazzclub
TRANSP:OPAQUE
URL:http://jazztaxi.de/alle-termine/358-bluff-im-jazzclub
END:VEVENT
END:VCALENDAR
