BEGIN:VCALENDAR
VERSION:2.0
PRODID:-//Jazz-Initiative Eifel e. V.//NONSGML kigkonsult.se iCalcreator 2.41.92//
CALSCALE:GREGORIAN
METHOD:PUBLISH
UID:30636238-3961-4565-a438-386334313033
X-WR-CALNAME:iCagenda
X-WR-CALDESC:Event Management Extension for Joomla!
X-WR-RELCALID:3E26604A-50F4-4449-8B3E-E4F4932D05B5
X-WR-TIMEZONE:UTC
BEGIN:VTIMEZONE
TZID:UTC
END:VTIMEZONE
BEGIN:VEVENT
UID:32626436-6265-4230-b131-653832666633
DTSTAMP:20260420T221431Z
CATEGORIES:Kulturbrauerei im Brauhaus Prüm
CLASS:PUBLIC
DESCRIPTION;ALTREP="CID:<FFFF__=0ABBE548DFE235B58f9e8a93d@coffeebean.com>":
 Bajj in Carnaby ist eine Gruppe von 5 leidenschaftlichen Musikern: Jacques
 \, Olivier\, Benja\, Laurent und Aurélie aus der Region Malmedy.Die Band e
 rzählt eine großartige Geschichte über Freundschaft und die Liebe zur Musi
 k.Die belgische Band mit dem Akustik-Jazz-Touch bietet hervorragende Unter
 haltung mit tanzbarer Musik\, leichte Unterhaltung für einen unbeschwerten
  Sonntagnachmittag. Entdecken Sie Zaz\, Vaya Condios\, Queen und sogar Daf
 t Punk. Das Publikum wird auf eine Reise geschickt\, die auch in die Jugen
 dzeit führt.Das Publikum kann sich auf ein abwechslungsreiches Konzert mit
  einigen Überraschungen freuen.
DTSTART:20230730T170000Z
DTEND:20230730T190000Z
GEO:00;0
LOCATION:
ORGANIZER:
SEQUENCE:1
SUMMARY:Bajj in Carnaby Kulturbrauerei Prüm
TRANSP:OPAQUE
URL:http://jazztaxi.de/alle-termine/355-bajj-in-carnaby-kulturbrauerei-prue
 m
END:VEVENT
END:VCALENDAR
