BEGIN:VCALENDAR
VERSION:2.0
PRODID:-//Jazz-Initiative Eifel e. V.//NONSGML kigkonsult.se iCalcreator 2.41.92//
CALSCALE:GREGORIAN
METHOD:PUBLISH
UID:35653837-3636-4361-b831-373563343935
X-WR-CALNAME:iCagenda
X-WR-CALDESC:Event Management Extension for Joomla!
X-WR-RELCALID:3E26604A-50F4-4449-8B3E-E4F4932D05B5
X-WR-TIMEZONE:UTC
BEGIN:VTIMEZONE
TZID:UTC
END:VTIMEZONE
BEGIN:VEVENT
UID:63326435-3466-4835-a638-313735363235
DTSTAMP:20260420T222027Z
CATEGORIES:Kulturbrauerei im Brauhaus Prüm
CLASS:PUBLIC
DESCRIPTION;ALTREP="CID:<FFFF__=0ABBE548DFE235B58f9e8a93d@coffeebean.com>":
 Uncle Mikes Bigband hat uns schon die Tauffeier für unser Maskotchen auf w
 underbare Weise umrahmt\,\nDie Musiker waren so begeistert von unserer DIY
 -Bühnenkonstruktion\, das wir sie&nbsp\;dieses Jahr erneut begrüßen dürfen
 . Mit Ihren fetzigem Bigband-Sound Bieten sie den würdigen Rahmen für das 
 diesjährige Spektakel.\nWir haben wieder einige überaschungen parat und we
 rden das Musikalische Programm entsprechend auflockern.\n&nbsp\;
DTSTART:20230621T200000Z
DTEND:20230621T220000Z
GEO:00;0
LOCATION:
ORGANIZER:
SEQUENCE:1
SUMMARY:Prümels Geburtstag feiern wir ganz Gros auf der Brauhausterasse in 
 Prüm
TRANSP:OPAQUE
URL:http://jazztaxi.de/alle-termine/348-pruemels-geburtstag-feiern-wir-ganz
 -gros-auf-der-brauhausterasse-in-pruem
END:VEVENT
END:VCALENDAR
