BEGIN:VCALENDAR
VERSION:2.0
PRODID:-//Jazz-Initiative Eifel e. V.//NONSGML kigkonsult.se iCalcreator 2.41.92//
CALSCALE:GREGORIAN
METHOD:PUBLISH
UID:31646661-6265-4262-a139-396665376530
X-WR-CALNAME:iCagenda
X-WR-CALDESC:Event Management Extension for Joomla!
X-WR-RELCALID:3E26604A-50F4-4449-8B3E-E4F4932D05B5
X-WR-TIMEZONE:UTC
BEGIN:VTIMEZONE
TZID:UTC
END:VTIMEZONE
BEGIN:VEVENT
UID:33653334-6532-4666-b039-366139373564
DTSTAMP:20260420T221942Z
CATEGORIES:Allgemein
CLASS:PUBLIC
DESCRIPTION;ALTREP="CID:<FFFF__=0ABBE548DFE235B58f9e8a93d@coffeebean.com>":
 Alljährlich im Februar findet über mehrere Tage das Echter’Jazz Festival i
 m TRIFOLION Echternach statt. Seit seiner ersten Ausgabe im Jahr 2021 hat 
 das Festival nationale und internationale Musiker&nbsp\;eingeladen und hie
 rbei für ein Wochenende voller Jazz inmitten des luxemburgischen Winters g
 esorgt.\n&nbsp\;\nLine-Up 2023:\n23.02Larry Goldings\, Peter Bernstein\, B
 ill StewartStefano Agostini “Point Cloud Echo”\n24.02Samara JoyGeorg Ruby 
 Village Zone &amp\; Sascha Ley\n25.02Rabih Abou-KhalilMajid Bekkas “Joudou
 r”
DTSTART:20230223T200000Z
DTEND:20230223T200000Z
GEO:00;0
LOCATION:TRIFOLION Echternach
ORGANIZER;CN=:mailto:ticket@ticketing.lu
SEQUENCE:1
SUMMARY:Echter'Jazz Festival
TRANSP:OPAQUE
URL:http://jazztaxi.de/alle-termine/325-echter-jazz-festival/2023-02-23-20-
 00
END:VEVENT
END:VCALENDAR
