BEGIN:VCALENDAR
VERSION:2.0
PRODID:-//Jazz-Initiative Eifel e. V.//NONSGML kigkonsult.se iCalcreator 2.41.92//
CALSCALE:GREGORIAN
METHOD:PUBLISH
UID:31653338-6533-4235-a535-383834623264
X-WR-CALNAME:iCagenda
X-WR-CALDESC:Event Management Extension for Joomla!
X-WR-RELCALID:3E26604A-50F4-4449-8B3E-E4F4932D05B5
X-WR-TIMEZONE:UTC
BEGIN:VTIMEZONE
TZID:UTC
END:VTIMEZONE
BEGIN:VEVENT
UID:61663665-3435-4130-b233-303834383563
DTSTAMP:20260420T222155Z
CATEGORIES:Jazzclub
CLASS:PUBLIC
DESCRIPTION;ALTREP="CID:<FFFF__=0ABBE548DFE235B58f9e8a93d@coffeebean.com>":
 MoNi-Jazz mit dem Rick-Hollander-Quartet im Jazz-Ballroom\nEine internatio
 nal bekannte Jazzband gastiert im November 2023 in Bitburg.&nbsp\; Und das
  Konzert verspricht viel gute Musik.\n Diese Sammlung aus den beliebtesten
  Melodien der Welt hat einen besonderen Platz im Herzen des Bandleaders Ri
 ck Hollander. Jedem Arrangement gab er reichlich Zeit um Melodie\, Harmoni
 e und Rhythmus auf intuitive Art zu gestalten. Das Rick Hollander Quartet 
 besteht seit 2016 in neuer Formation als einer der „hardest working bands“
  der internationalen Jazz Szene. Durch den Luxus unzähliger Auftritte entw
 ickelt sich das Programm jeden Abend immer weiter.\nBrian Levys Saxophon- 
 und Flötenspiel verbindet große Virtuosität mit Sensibilität dabei machen 
 Ehrlichkeit und Intelligenz seinen musikalischen Ausdruck aus.\nGitarrist 
 Paul Brändle bereichert die Identität der Band mit seinem ausgeprägten Sin
 n für Harmonie und Melodie. Die ruhige\, besonnene Herangehensweise mit de
 r Paul arbeitet\, spiegelt seinen reifen Charakter wider.\nMunguntovch Tso
 lmonbayar ist in der Lage einen lebhaften musikalischen Impuls am Kontraba
 ss zu geben und mit dem Bogen zu „rhapsodieren“\, ohne dabei einen Gang zu
 rückzuschalten. Tovchoo (sein Künstername) verfügt über die Gabe\, das gro
 ße Ganze zu hören\, während er in Aktion ist.\nOb am Schlagzeug oder an de
 r Steeldrum Bandleader Rick Hollander hüllt den Sound des RHQ mit breiten 
 und feinen Linien ein. Sein weites Spektrum an zeitlosen Ideen machen den 
 Sound der ganzen Band aus.\nDas Jazz-Quartet spielt am Montag\, 20. 11. 20
 23 ab 20 h im Jazz-Ballroom im Bowling Center Bitburg\, Charles-Lindbergh-
 Alle 5. Eintritt frei.
DTSTART:20231120T200000Z
DTEND:20231120T200000Z
GEO:00;0
LOCATION:Jazzclub im Bowling Center Bitburg\, Charles-Lindbergh-Allee 5
ORGANIZER:
SEQUENCE:1
SUMMARY:MoNi-Jazz mit dem Rick-Hollander-Quartet im Jazz-Ballroom
TRANSP:OPAQUE
URL:http://jazztaxi.de/alle-termine/318-moni-jazz-mit-dem-rick-hollander-qu
 artet-im-jazz-ballroom/2023-11-20-20-00
END:VEVENT
END:VCALENDAR
