BEGIN:VCALENDAR
VERSION:2.0
PRODID:-//Jazz-Initiative Eifel e. V.//NONSGML kigkonsult.se iCalcreator 2.41.92//
CALSCALE:GREGORIAN
METHOD:PUBLISH
UID:39343936-3562-4133-a231-393732383863
X-WR-CALNAME:iCagenda
X-WR-CALDESC:Event Management Extension for Joomla!
X-WR-RELCALID:3E26604A-50F4-4449-8B3E-E4F4932D05B5
X-WR-TIMEZONE:UTC
BEGIN:VTIMEZONE
TZID:UTC
END:VTIMEZONE
BEGIN:VEVENT
UID:38616638-6566-4635-b833-363436313432
DTSTAMP:20260420T221111Z
CATEGORIES:Allgemein
CLASS:PUBLIC
DESCRIPTION;ALTREP="CID:<FFFF__=0ABBE548DFE235B58f9e8a93d@coffeebean.com>":
 Lust Lindy Hop auszuprobieren?&nbsp\;Für alle Interessierten bietet der Ve
 rein Lindy Hop Circle Trier einen Schnupperkurs an. Lindy Hop ist ein rhyt
 hmischer und grooviger Paartanz\, der zur Big-Band-Musik der Harlem Ballro
 oms getanzt wurde und in den 20er Jahren entstand. Spannend macht den Tanz
  vor allem das er viel Raum für Improvisation und individuelle Interpretat
 ion der Musik lässt. Der Schnupperkurs wird in der wunderbaren Atmosphäre 
 des Frankenturms stattfinden. Es ist keine Anmeldung notwendig und er ist 
 kostenfrei. Einfach spontan alleine oder mit Partner:in vorbeikommen.&nbsp
 \;Neugier geworden?&nbsp\;\nFür weitere Informationen über den Verein\, Ta
 nz und weitere Veranstaltungen einfach auf folgende Website gehen:&nbsp\;h
 ttps://lindyhopcircletrier.de/
DTSTART:20230126T193000Z
DTEND:20230126T203000Z
GEO:00;0
LOCATION:Frankenturm\, Dietrichstraße 4\, 54290 Trier
ORGANIZER;CN=:mailto:probierswingtanz@gmail.com
SEQUENCE:1
SUMMARY:Lindy Hop Schnupperkurs
TRANSP:OPAQUE
URL:http://jazztaxi.de/alle-termine/313-lindy-hop-schnupperkurs
END:VEVENT
END:VCALENDAR
