BEGIN:VCALENDAR
VERSION:2.0
PRODID:-//Jazz-Initiative Eifel e. V.//NONSGML kigkonsult.se iCalcreator 2.41.92//
CALSCALE:GREGORIAN
METHOD:PUBLISH
UID:36393662-6161-4735-a661-366133306439
X-WR-CALNAME:iCagenda
X-WR-CALDESC:Event Management Extension for Joomla!
X-WR-RELCALID:3E26604A-50F4-4449-8B3E-E4F4932D05B5
X-WR-TIMEZONE:UTC
BEGIN:VTIMEZONE
TZID:UTC
END:VTIMEZONE
BEGIN:VEVENT
UID:62396134-6339-4538-b937-393861323639
DTSTAMP:20260420T232105Z
CATEGORIES:Allgemein
CLASS:PUBLIC
DESCRIPTION;ALTREP="CID:<FFFF__=0ABBE548DFE235B58f9e8a93d@coffeebean.com>":
 ​Lust auf Swing Tanz? Der Social Dance vom Lindy Hop Circle Trier findet i
 n der gemütlichen Atmosphäre des Old Fashioned statt. Es sind alle Tänzer/
 innen und&nbsp\;alle Interessierte (auch ohne jegliche Vorerfahrung) aus T
 rier und Umgebung eingeladen um miteinander Swingmusik zu genießen\, sich 
 auszutauschen und vor allem\, um gemeinsam zu tanzen. Einfach spontan vorb
 eikommen ob alleine oder mit Partner/in.\nInteresse geweckt? Für weitere I
 nformationen über den Verein\, Tanz und weitere Veranstaltungen einfach au
 f folgende Website gehen:&nbsp\;https://lindyhopcircletrier.de/
DTSTART:20230112T200000Z
DTEND:20230112T223000Z
GEO:00;0
LOCATION:Old Fashioned\, Pferdemarkt 7\, 54290 Trier
ORGANIZER;CN=:mailto:probierswingtanz@gmail.com
SEQUENCE:1
SUMMARY:Social Dance
TRANSP:OPAQUE
URL:http://jazztaxi.de/alle-termine/312-social-dance
END:VEVENT
END:VCALENDAR
