BEGIN:VCALENDAR
VERSION:2.0
PRODID:-//Jazz-Initiative Eifel e. V.//NONSGML kigkonsult.se iCalcreator 2.41.92//
CALSCALE:GREGORIAN
METHOD:PUBLISH
UID:65643866-3538-4164-a234-373164313630
X-WR-CALNAME:iCagenda
X-WR-CALDESC:Event Management Extension for Joomla!
X-WR-RELCALID:3E26604A-50F4-4449-8B3E-E4F4932D05B5
X-WR-TIMEZONE:UTC
BEGIN:VTIMEZONE
TZID:UTC
END:VTIMEZONE
BEGIN:VEVENT
UID:39303931-3533-4737-a635-653430353732
DTSTAMP:20260420T154237Z
CATEGORIES:Summer-Jazz Festival
CLASS:PUBLIC
DESCRIPTION;ALTREP="CID:<FFFF__=0ABBE548DFE235B58f9e8a93d@coffeebean.com>":
 Ursprünglich als Trio gegründet besteht die Swingband heute aus sieben Ama
 teurmusikern\, die Erfahrungen aus anderen Bands und ver­schiedenen Stilri
 chtungen mitbringen. Sie ist in Düsseldorf beheimatet und hat dort im Mai 
 2012 ihr „10-Jähriges“ mit einem Konzert im Rahmen der Reihe „Jazz in Matt
 hias“ gefeiert.\nIm Laufe der Zeit ist sie gern gesehener Gast bei etliche
 n Jazzveranstaltungen oder in Jazzclubs geworden und hat z.B. am Jazzfesti
 val „Quedlinburg swingt“ 2014 und an der „Düsseldorfer Jazz Rally“ 2015 er
 folgreich teilgenommen.\nDie Band spielt Swing und Artverwandtes\, überwie
 gend aus der Zeit der 30er/40er Jahre. Dabei orientiert sie sich in geeign
 eter Weise an Count Basie sowie den Swing-Combos der Bigband-Ära und hat u
 .a. durch arrangierte Bläsersätze einen eigenen Stil gefunden. Gepaart mit
  einem gehörigen Schuss Spielfreude möchte sie das „Swing-Feeling“ der dam
 aligen Zeit vermitteln\, erkennbar immer an wippenden Füßen der Zuhörer.\n
 Das laufend erweiterte Repertoire beinhaltet natürlich Standards großer Sw
 ing-musiker wie Basie\, Ellington\, Goodman. Daneben jedoch auch weniger b
 ekannte Stücke und eigene unkonventionelle Interpretationen bekannter Jazz
 -Titel.\nArmin Schneider\, tb (Bandleader)\, Waldemar Illinich\, tp/flh\, 
 Les Webb\, ts/cl/ss/bcl/voc/arr\, Christian von Gehren\, p\, Peter Schmidt
 \, g\, Peter Schmale\, b\, Anatoli Alexeev\, dr.\nMachMaJaTzz spielt am Mi
 ttwoch\, 25. Juli 2018 ab 19 Uhr im Bedagarten.\nSummer Jazz im Bedagarten
  ist eine Gemeinschaftsveranstaltung der Jazz-Initiative Eifel\, der Kultu
 rgemeinschaft Bitburg und der Dr.-Hanns-Simon-Stiftung.\nwww.jazzei.de
DTSTART:20180725T190000Z
DTEND:20180725T213000Z
GEO:00;0
LOCATION:Garten Haus Beda\, Bitburg
ORGANIZER:
SEQUENCE:1
SUMMARY:MachMaJaTzz spielt Dixieland- und Swing
TRANSP:OPAQUE
URL:http://jazztaxi.de/alle-termine/3-machmajatzz-spielt-dixieland-und-swin
 g
END:VEVENT
END:VCALENDAR
