BEGIN:VCALENDAR
VERSION:2.0
PRODID:-//Jazz-Initiative Eifel e. V.//NONSGML kigkonsult.se iCalcreator 2.41.92//
CALSCALE:GREGORIAN
METHOD:PUBLISH
UID:38653436-6336-4639-a538-313466386133
X-WR-CALNAME:iCagenda
X-WR-CALDESC:Event Management Extension for Joomla!
X-WR-RELCALID:3E26604A-50F4-4449-8B3E-E4F4932D05B5
X-WR-TIMEZONE:UTC
BEGIN:VTIMEZONE
TZID:UTC
END:VTIMEZONE
BEGIN:VEVENT
UID:32666437-3232-4433-b662-613437643964
DTSTAMP:20260420T165758Z
CATEGORIES:Jazzclub
CLASS:PUBLIC
DESCRIPTION;ALTREP="CID:<FFFF__=0ABBE548DFE235B58f9e8a93d@coffeebean.com>":
 Aus terminlichen Gründen kann findet der angekündigte Aufttritt 'Christina
  Schamei Quintett' leider nicht statt.Stattdessen spielt das Benno Raabe T
 rioDie Swingmusik ist ihr Metier. Darin kennen sie sich aus. Sie spielen S
 tücke aus der „klassischen“ Zeit des Swing\, Stücke von Duke Ellington\, C
 ount Basie\, Benny Goodman und anderen. Im Bedagarten präsentieren die vie
 r Musiker ganz besonders Stücke von Dorothy Fields und Jimmy McHugh. Stück
 e\, die jeder kennt und die immer wieder gern gehört werden. Sie spielen f
 ür ihr Publikum und pflegen dabei ihren typischen musikalischen Stil.Geleg
 entliche musikalische Ausflüge in die moderne und anspruchsvolle Popmusik 
 sind ihnen durchaus vertraut.\nDas Benno Raabe Trio spielt am Donnerstag\,
  6. Juni 2019 ab 20 Uhr im Bitburger Jazzclub\, Brodenheckstr. 15. Eintrit
 t frei.
DTSTART:20190606T200000Z
DTEND:20190606T223000Z
GEO:00;0
LOCATION:Bitburger Jazzclub\, Brodenheckstr. 15\, 54634 Bitburg
ORGANIZER;CN=:mailto:rolf.mrotzek@online.de
SEQUENCE:1
SUMMARY:Benno Raabe Trio gastiert im Bitburger Jazzclub
TRANSP:OPAQUE
URL:http://jazztaxi.de/alle-termine/28-benno-raabe-trio-gastiert-im-bitburg
 er-jazzclub
END:VEVENT
END:VCALENDAR
