BEGIN:VCALENDAR
VERSION:2.0
PRODID:-//Jazz-Initiative Eifel e. V.//NONSGML kigkonsult.se iCalcreator 2.41.92//
CALSCALE:GREGORIAN
METHOD:PUBLISH
UID:39626632-3031-4364-a362-316365613736
X-WR-CALNAME:iCagenda
X-WR-CALDESC:Event Management Extension for Joomla!
X-WR-RELCALID:3E26604A-50F4-4449-8B3E-E4F4932D05B5
X-WR-TIMEZONE:UTC
BEGIN:VTIMEZONE
TZID:UTC
END:VTIMEZONE
BEGIN:VEVENT
UID:31383862-3462-4065-b963-656563616637
DTSTAMP:20260420T220825Z
CATEGORIES:Prümer Nachkirmes
CLASS:PUBLIC
DESCRIPTION;ALTREP="CID:<FFFF__=0ABBE548DFE235B58f9e8a93d@coffeebean.com>":
 'Seit 2014 begeistern die Lucky Losers ihre Fans mit mitreißenden Live-Auf
 tritten voller Dynamik und Leidenschaft. Hier kommt garantiert keine Lange
 weile auf!'Hei!&nbsp\;Wir\, die Lucky Losers\, sind eine Party-Rockband au
 s dem Raum Stuttgart.Neben eigenen Liedern spielen wir neu interpretierte 
 Coverversionen der Rock-/ Pop-/ Alternative- und Grunge-Hymnen der 80er / 
 90er Jahre bis hin zu aktuellen Charts.&nbsp\;Durch unser breites Repertoi
 re ist für jeden etwas dabei. Vom vorsichtigen Fingertippen über Klatschen
  bis hin zum Mitsingen und Tanzen.Die Freude an und der Spaß mit der Musik
  steht im Mittelpunkt - für die Band und ihre Zuhörer.Also komm gerne vorb
 ei und mache einen Abend zu einem unvergesslichen Abend!\nWir freuen uns!
DTSTART:20220813T170000Z
DTEND:20220813T190000Z
GEO:00;0
LOCATION:Prümer Brauhaus
ORGANIZER;CN=:mailto:nahrings@t-online.de
SEQUENCE:1
SUMMARY:PNK Lucky Loosers
TRANSP:OPAQUE
URL:http://jazztaxi.de/alle-termine/272-pnk-lucky-loosers
END:VEVENT
END:VCALENDAR
