BEGIN:VCALENDAR
VERSION:2.0
PRODID:-//Jazz-Initiative Eifel e. V.//NONSGML kigkonsult.se iCalcreator 2.41.92//
CALSCALE:GREGORIAN
METHOD:PUBLISH
UID:62336239-3062-4036-a566-326536343363
X-WR-CALNAME:iCagenda
X-WR-CALDESC:Event Management Extension for Joomla!
X-WR-RELCALID:3E26604A-50F4-4449-8B3E-E4F4932D05B5
X-WR-TIMEZONE:UTC
BEGIN:VTIMEZONE
TZID:UTC
END:VTIMEZONE
BEGIN:VEVENT
UID:33346262-6136-4564-a561-313935386431
DTSTAMP:20260420T205124Z
CATEGORIES:Prümer Nachkirmes
CLASS:PUBLIC
DESCRIPTION;ALTREP="CID:<FFFF__=0ABBE548DFE235B58f9e8a93d@coffeebean.com>":
 Unter dem Namen Flo's Gagengeheimnis&nbsp\;spielt für Sie Florian Esch mit
  seiner 'Traumbesetzung' auf der Prümer Nachkirmes eine extra für diesen A
 bend zusammen gestellte Dreamband um die Sängerin Sandra Klinkhammer. Die 
 weitere Besetzung besteht aus Phillipp Zdebel Schlagzeug\, Dominik Ehrl Ba
 ss\, Bastian Ruppert Gitarre und Kai Weiner an den Keys. Zu hören sein wer
 den Funk/Soul und Jazzklassiker. Als besonderes Highlite wird es in der 3.
  Hälfte des Konzerts noch ein grosses 'Meet and Greet' auf der Bühne mit M
 usikern aus der Eifel geben! Hier treffen sich Freunde der Musiker und bil
 den den heissen Bläsersatz\, die 'Funkey Horns'\, sie sind die gezuckerte 
 Kirsche ganz oben auf der Sahnekrone des Endgeilen Konzertes.\nZum Bandnam
 en gibts weitere Infos an der Veranstaltung.
DTSTART:20220813T200000Z
DTEND:20220813T230000Z
GEO:00;0
LOCATION:Prümer Brauhaus
ORGANIZER;CN=:mailto:nahrings@t-online.de
SEQUENCE:1
SUMMARY:Flo's Gagengeheimnis
TRANSP:OPAQUE
URL:http://jazztaxi.de/alle-termine/270-pnk22-forian-esch-his-funkey-angels
END:VEVENT
END:VCALENDAR
