BEGIN:VCALENDAR
VERSION:2.0
PRODID:-//Jazz-Initiative Eifel e. V.//NONSGML kigkonsult.se iCalcreator 2.41.92//
CALSCALE:GREGORIAN
METHOD:PUBLISH
UID:31663336-3238-4036-b039-363062303763
X-WR-CALNAME:iCagenda
X-WR-CALDESC:Event Management Extension for Joomla!
X-WR-RELCALID:3E26604A-50F4-4449-8B3E-E4F4932D05B5
X-WR-TIMEZONE:UTC
BEGIN:VTIMEZONE
TZID:UTC
END:VTIMEZONE
BEGIN:VEVENT
UID:37633764-6535-4661-a130-383930643238
DTSTAMP:20260420T205025Z
CATEGORIES:Allgemein
CLASS:PUBLIC
DESCRIPTION;ALTREP="CID:<FFFF__=0ABBE548DFE235B58f9e8a93d@coffeebean.com>":
 \nUnterhaltungsmusik: Klassik\, Operettenmelodien\, Schlager der 20er/30er
  Jahre ...\n\n\nEintritt: 20 EUR\, ermäßigt 10 EUR\n\nVVK: 0651-69103
DTSTART:20220528T140000Z
DTEND:20220528T140000Z
GEO:00;0
LOCATION:chateaux Vianden\, Saal Vic. Abens
ORGANIZER;CN=:mailto:info@castle-vianden.lu
SEQUENCE:1
SUMMARY:Trierer Kaffeehaus-Orchester
TRANSP:OPAQUE
URL:http://jazztaxi.de/alle-termine/265-trierer-kaffeehaus-orchester/2022-0
 5-28-14-00
END:VEVENT
END:VCALENDAR
