BEGIN:VCALENDAR
VERSION:2.0
PRODID:-//Jazz-Initiative Eifel e. V.//NONSGML kigkonsult.se iCalcreator 2.41.92//
CALSCALE:GREGORIAN
METHOD:PUBLISH
UID:62343834-6433-4765-b038-333434653666
X-WR-CALNAME:iCagenda
X-WR-CALDESC:Event Management Extension for Joomla!
X-WR-RELCALID:3E26604A-50F4-4449-8B3E-E4F4932D05B5
X-WR-TIMEZONE:UTC
BEGIN:VTIMEZONE
TZID:UTC
END:VTIMEZONE
BEGIN:VEVENT
UID:63353063-3539-4237-a439-353839626337
DTSTAMP:20260420T215953Z
CATEGORIES:Prümer Nachkirmes
CLASS:PUBLIC
DESCRIPTION;ALTREP="CID:<FFFF__=0ABBE548DFE235B58f9e8a93d@coffeebean.com>":
 Nils Becker (Prüm) spielt mit der Band Velophon. Mit dabei sind Jens Hilke
  (dr) und Joschua Fetscher (p). Die drei jungen Musiker haben sich die sic
 h anlässlich ihres Musikstudiums in Stuttgart kennenlernten und Gemeinsam 
 ein vielseitiges Reportiore erarbeitet\, das nicht zuletzt von knackigen B
 ässen\, groovigen Drums und expressiven Klavierlicks veredelt wird. Die Ba
 nd bietet neben Standards und Eigenkompositionen auch Crossovers in denen 
 ihr klassischer Hintergrund Anklang findet\, sodass ein Großes Publikum au
 f seine Kosten kommen wird. Wir freuen uns auf diese junge Band mit einem 
 bekannten Prümer Gesicht und ihren ersten Auftritt in der Region.
DTSTART:20220814T120000Z
DTEND:20220814T140000Z
GEO:00;0
LOCATION:Prümer Brauhaus
ORGANIZER;CN=:mailto:nahrings@t-online.de
SEQUENCE:1
SUMMARY:Nils Becker (Prüm) spielt mit der Band Velophon.
TRANSP:OPAQUE
URL:http://jazztaxi.de/alle-termine/256-nachkirmes
END:VEVENT
END:VCALENDAR
