BEGIN:VCALENDAR
VERSION:2.0
PRODID:-//Jazz-Initiative Eifel e. V.//NONSGML kigkonsult.se iCalcreator 2.41.92//
CALSCALE:GREGORIAN
METHOD:PUBLISH
UID:36353930-3838-4337-a462-616631323237
X-WR-CALNAME:iCagenda
X-WR-CALDESC:Event Management Extension for Joomla!
X-WR-RELCALID:3E26604A-50F4-4449-8B3E-E4F4932D05B5
X-WR-TIMEZONE:UTC
BEGIN:VTIMEZONE
TZID:UTC
END:VTIMEZONE
BEGIN:VEVENT
UID:62376131-3937-4235-b963-373032626335
DTSTAMP:20260420T192359Z
CATEGORIES:Kulturbrauerei im Brauhaus Prüm
CLASS:PUBLIC
DESCRIPTION;ALTREP="CID:<FFFF__=0ABBE548DFE235B58f9e8a93d@coffeebean.com>":
 Die Kulturfreunde Prüm unterstützen mit der Gruppe 'Brassers' das diesjähr
 ig zum ersten mal stattfindende Winterfest. Das Fest ist eine Idee von Mar
 tin Hermans\, der seine Gastronomie entlang der längsten Eisbahn der Eifel
 \, sofern die Prüm zugefroren ist\, betreibt.&nbsp\;\nDas Fest startet am 
 Freitag den mit erner 10 Köpfigen Blechbläserformation 'BRASSers'.&nbsp\;
 \nZusammengefunden im LandesJugendBlasOrchester-Rheinland-Pfalz\, haben si
 ch die 10 Musiker ein Ziel gesteckt\, die Zuschauer mit professioneller un
 d anspruchsvoller Blasmusik von Club bis Oktoberfest ins Gedächtnis zu spi
 elen.\nAus weiten Teilen Deutschlands finden sich die BRASSers regelmäßig 
 zu Konzerten und Auftritten in allen Bundesländern zusammen\, um die Blasm
 usik neu gedacht und virtuos ans Publikum heran zu bringen. Ausgelassene S
 timmung am Ende inklusive!\n&nbsp\;
DTSTART:20220204T190000Z
DTEND:20220204T220000Z
GEO:00;0
LOCATION:
ORGANIZER:
SEQUENCE:1
SUMMARY:Winterfest im Brauhaus mit den 'BRASSers'
TRANSP:OPAQUE
URL:http://jazztaxi.de/alle-termine/231-winterfest-im-brauhaus
END:VEVENT
END:VCALENDAR
