BEGIN:VCALENDAR
VERSION:2.0
PRODID:-//Jazz-Initiative Eifel e. V.//NONSGML kigkonsult.se iCalcreator 2.41.92//
CALSCALE:GREGORIAN
METHOD:PUBLISH
UID:65643964-6664-4339-b935-656663333331
X-WR-CALNAME:iCagenda
X-WR-CALDESC:Event Management Extension for Joomla!
X-WR-RELCALID:3E26604A-50F4-4449-8B3E-E4F4932D05B5
X-WR-TIMEZONE:UTC
BEGIN:VTIMEZONE
TZID:UTC
END:VTIMEZONE
BEGIN:VEVENT
UID:36656162-3364-4638-b764-336139323239
DTSTAMP:20260420T192032Z
CATEGORIES:Allgemein
CLASS:PUBLIC
DESCRIPTION;ALTREP="CID:<FFFF__=0ABBE548DFE235B58f9e8a93d@coffeebean.com>":
 EWB = Eifler Brassweekend\n&nbsp\;\nDas Brassweekend ist am 27. und 28.Nov
 ember (1. Advent). Jeweils Vormittags und Nachmittags 2 Stunden dazwischen
  eine gemeinsame Mittagspause mit Gedankenaustausch.\nKosten 60\,-€ die Ja
 zz-Initiative Eifel e.V. gibt nocheinmal das gleiche pro Teilnehmer dazu.
 \nAnmeldung ist erforderlich unter 0171 4888 925 (gerne auch Whatsapp).
DTSTART:20211127T100000Z
DTEND:20211127T100000Z
GEO:00;0
LOCATION:
ORGANIZER:
SEQUENCE:1
SUMMARY:Eifel Brass Weekend
TRANSP:OPAQUE
URL:http://jazztaxi.de/alle-termine/227-eifel-brass-weekend/2021-11-27-10-0
 0
END:VEVENT
END:VCALENDAR
