BEGIN:VCALENDAR
VERSION:2.0
PRODID:-//Jazz-Initiative Eifel e. V.//NONSGML kigkonsult.se iCalcreator 2.41.92//
CALSCALE:GREGORIAN
METHOD:PUBLISH
UID:37386439-6432-4539-a161-386330313030
X-WR-CALNAME:iCagenda
X-WR-CALDESC:Event Management Extension for Joomla!
X-WR-RELCALID:3E26604A-50F4-4449-8B3E-E4F4932D05B5
X-WR-TIMEZONE:UTC
BEGIN:VTIMEZONE
TZID:UTC
END:VTIMEZONE
BEGIN:VEVENT
UID:36653531-3632-4661-b439-383562393461
DTSTAMP:20260420T205142Z
CATEGORIES:Jazzclub
CLASS:PUBLIC
DESCRIPTION;ALTREP="CID:<FFFF__=0ABBE548DFE235B58f9e8a93d@coffeebean.com>":
 JOSCHO &amp\; DER GYPSYJAZZ\n\n\nWie kein anderer prägt Joscho Stephan mit
  seinem Spiel den modernen Gypsy Swing: Durch seinen authentischen Ton\, m
 it harmonischer Raffinesse und rhythmischem Gespür\, vor allem aber mit at
 emberaubender Solotechnik hat sich Stephan in der internationalen Gitarren
 szene einen herausragenden Ruf erspielt. Er versteht es wie kein Zweiter\,
  aus der Vielzahl aktueller Gypsy Swing Adaptionen heraus zu ragen\, indem
  er neben den vielen Interpretationen der bekannten Klassiker des Genres d
 en Gypsy Swing mit Latin\, Klassik und Pop liiert. Hier zeigt sich Stephan
 s Stärke als kreativer Visionär. Und das begeistert das junge und alte Kon
 zertpublikum gleichermaßen.\nCD´s\nSeine beiden letzten Produktionen erfuh
 ren eine besondere Anerkennung. Anfang 2015 wurde „Gypsy meets Groove“ ebe
 nso für den Deutschen Schallplattenpreis nominiert wie sein aktuelles Albu
 m „Guitar Heroes“\, für welches er Gitarrengrößen wie Bireli Lagrène und S
 tochelo Rosenberg als Gäste gewinnen konnte.\nSchon sein Debüt „Swinging S
 trings“ wurde 1999 vom amerikanischen Fachmagazin „Guitar Player“ zur CD d
 es Monats gekürt. Das renommierte „Acoustic Guitar Magazine“ feiert Joscho
  Stephan als Gitarristen für die Zukunft der Gypsy Jazzgitarre.\nKonzerte
 \nMusikergrößen wie Paquito D’Rivera\, James Carter\, Charlie Mariano und 
 Grady Tate zeigten sich nach gemeinsamen Auftritten begeistert. Auf dem au
 stralischen Kontinent war Joscho Stephan mit Martin Taylor und Tommy Emman
 uel auf Konzertreise. Mit seinen eigenen Ensembles hat er auf vielen bedeu
 tenden Festivals in ganz Europa gespielt. Auch in den USA konnte er mit Ko
 nzerten u.a. in Nashville\, Chicago\, San Francisco\, Detroit oder im lege
 ndären Jazzclub Birdland und dem Lincoln Center in New York begeistern.\nA
 ndreas Kremer\nAn diesem Abend wird Joscho Stephan von dem Mediziner und P
 ianisten Andreas Kremer begleitet. Beide sind seit Jahren ein eingeschwore
 nes Team und bringen neben klassischem Gypsi Swing\,Blues\,Balladen und Ja
 zz Standards zu Gehör. In sämtlichen Bereichen wird der Improvisation Raum
  und Zeit gegeben. Kostproben können Sie auf den Alben „enfant terrible“ u
 nd „Andreas Kremer Sketches“ bei bekannten Musikanbietern hören.\n
DTSTART:20220907T200000Z
DTEND:20220907T220000Z
GEO:00;0
LOCATION:
ORGANIZER:
SEQUENCE:1
SUMMARY:Joscho Stephan und Andreas Kremer im Brauhaus
TRANSP:OPAQUE
URL:http://jazztaxi.de/alle-termine/225-joscho-stephan-und-andreas-kremer-i
 m-brauhaus
END:VEVENT
END:VCALENDAR
