BEGIN:VCALENDAR
VERSION:2.0
PRODID:-//Jazz-Initiative Eifel e. V.//NONSGML kigkonsult.se iCalcreator 2.41.92//
CALSCALE:GREGORIAN
METHOD:PUBLISH
UID:38323936-6535-4763-b431-626163306463
X-WR-CALNAME:iCagenda
X-WR-CALDESC:Event Management Extension for Joomla!
X-WR-RELCALID:3E26604A-50F4-4449-8B3E-E4F4932D05B5
X-WR-TIMEZONE:UTC
BEGIN:VTIMEZONE
TZID:UTC
END:VTIMEZONE
BEGIN:VEVENT
UID:62303663-3235-4532-a138-623461333536
DTSTAMP:20260420T221008Z
CATEGORIES:Jazzclub
CLASS:PUBLIC
DESCRIPTION;ALTREP="CID:<FFFF__=0ABBE548DFE235B58f9e8a93d@coffeebean.com>":
 AKT = (Andreas Kremer Trio)\nDrei gesetzte Herren in den besten Jahren tre
 ten an in klassischer Besetzung Klavier Andreas Kremer\, Bass Hans-Martin 
 Klein\, Schlagzeug Michael Fetzer. Ihr Motto: Keine Angst vor Jazz. Schlie
 ßlich muss es ab einem gewissen Alter noch etwas außer Golf geben. Bei ein
 em Repertoire zwischen Chick Corea\, Herbie Hancock\, Miles Davis und groo
 vigen Standards haben die drei Ihren Spaß - und Sie bestimmt auch.
DTSTART:20220601T200000Z
DTEND:20220601T200000Z
GEO:00;0
LOCATION:Prümer Brauhaus
ORGANIZER;CN=:mailto:info@jazzei.de
SEQUENCE:1
SUMMARY:AKT im Brauhaus
TRANSP:OPAQUE
URL:http://jazztaxi.de/alle-termine/224-act-im-brauhaus/2022-06-01-20-00
END:VEVENT
END:VCALENDAR
