BEGIN:VCALENDAR
VERSION:2.0
PRODID:-//Jazz-Initiative Eifel e. V.//NONSGML kigkonsult.se iCalcreator 2.41.92//
CALSCALE:GREGORIAN
METHOD:PUBLISH
UID:61313666-3038-4339-b730-313562626530
X-WR-CALNAME:iCagenda
X-WR-CALDESC:Event Management Extension for Joomla!
X-WR-RELCALID:3E26604A-50F4-4449-8B3E-E4F4932D05B5
X-WR-TIMEZONE:UTC
BEGIN:VTIMEZONE
TZID:UTC
END:VTIMEZONE
BEGIN:VEVENT
UID:66313130-3634-4133-a433-323064663338
DTSTAMP:20260420T192114Z
CATEGORIES:Jazzclub
CLASS:PUBLIC
DESCRIPTION;ALTREP="CID:<FFFF__=0ABBE548DFE235B58f9e8a93d@coffeebean.com>":
 In den Soloprogrammen finden sich Blues und Balladen aus verschiedenen Dek
 aden in ausgefeilter Fingerstyle- und Slide-Technik. Songs von Robert John
 son\, Muddy Waters\, Eric Clapton\, James Taylor\, Keb' Mo'\, Bill Withers
  und vielen anderen wechseln sich ab mit einer Reihe von eigenen Stücken.D
 as aktuelle Bühnen-Solo-Programm besteht z.g.T. aus den Titeln&nbsp\;meine
 r Solo-CDs. Dies kann auch in Quintettgröße der aktuellen&nbsp\;Ralph Brau
 ner Band&nbsp\;gebucht werden.
DTSTART:20220406T200000Z
DTEND:20220406T200000Z
GEO:00;0
LOCATION:
ORGANIZER:
SEQUENCE:1
SUMMARY:Ralph Brauner (Git)  im Brauhaus
TRANSP:OPAQUE
URL:http://jazztaxi.de/alle-termine/210-ralf-brauner-git-im-brauhaus/2022-0
 4-06-20-00
END:VEVENT
END:VCALENDAR
