BEGIN:VCALENDAR
VERSION:2.0
PRODID:-//Jazz-Initiative Eifel e. V.//NONSGML kigkonsult.se iCalcreator 2.41.92//
CALSCALE:GREGORIAN
METHOD:PUBLISH
UID:65623434-6338-4832-a338-363632316338
X-WR-CALNAME:iCagenda
X-WR-CALDESC:Event Management Extension for Joomla!
X-WR-RELCALID:3E26604A-50F4-4449-8B3E-E4F4932D05B5
X-WR-TIMEZONE:UTC
BEGIN:VTIMEZONE
TZID:UTC
END:VTIMEZONE
BEGIN:VEVENT
UID:66396530-6535-4137-b034-663464306566
DTSTAMP:20260420T220749Z
CATEGORIES:Prümer Nachkirmes
CLASS:PUBLIC
DESCRIPTION;ALTREP="CID:<FFFF__=0ABBE548DFE235B58f9e8a93d@coffeebean.com>":
 Wolfgang Wilhelm Lackerschmid (* 19. September 1956 in Tegernsee) ist ein 
 deutscher Jazzmusiker\, Bandleader und Komponist. Sein Hauptinstrument ist
  das Vibraphon\, er spielt aber auch Piano und Mallet-Instrumente wie die 
 Marimba.Wolfgang Wilhelm Lackerschmid (* 19. September 1956 in Tegernsee) 
 ist ein deutscher Jazzmusiker\, Bandleader und Komponist. Sein Hauptinstru
 ment ist das Vibraphon\, er spielt aber auch Piano und Mallet-Instrumente 
 wie die Marimba.Seit 2000 spielt Lackerschmid in verschiedenen Duo und Ban
 dprojekten mit der Sängerin Stefanie Schlesinger.Mit Stefanie Schlesinger 
 betritt eine Sängerin die Bühne\, deren tiefe Sehnsucht nach der Schönheit
  des Augenblicks und dessen emotionaler Aufrichtigkeit das Publikum unmitt
 elbar zu berühren weiß.Jazz ist hier keine Frage des Repertoires:Stefanie 
 Schlesingers Programm umfasst neben den traditionellen Jazzstandards auch 
 Filmsongs\, klassische Werke und eigenes Songmaterial wie z. B. Gedichtver
 tonungen.Dies alles macht sie sich mit viel Liebe zum Detail und ihrem bes
 onderen Bandsound zu eigen. Durch die Art\, wie Wolfgang Lackerschmid das 
 Vibraphon als Harmonieinstrument einsetzt\, kommt Ihre wandlungsfähige Sti
 mme optimal zur Geltung.
DTSTART:20220814T180000Z
DTEND:20220814T220000Z
GEO:00;0
LOCATION:Prümer Brauhaus
ORGANIZER;CN=:mailto:nahrings@t-online.de
SEQUENCE:1
SUMMARY:PNK22 Schlesinger und Lackerschmid im Brauhaus
TRANSP:OPAQUE
URL:http://jazztaxi.de/alle-termine/209-schlesinger-und-lackerschmid-im-bra
 uhaus
END:VEVENT
END:VCALENDAR
