BEGIN:VCALENDAR
VERSION:2.0
PRODID:-//Jazz-Initiative Eifel e. V.//NONSGML kigkonsult.se iCalcreator 2.41.92//
CALSCALE:GREGORIAN
METHOD:PUBLISH
UID:66663432-3930-4165-b433-396138613632
X-WR-CALNAME:iCagenda
X-WR-CALDESC:Event Management Extension for Joomla!
X-WR-RELCALID:3E26604A-50F4-4449-8B3E-E4F4932D05B5
X-WR-TIMEZONE:UTC
BEGIN:VTIMEZONE
TZID:UTC
END:VTIMEZONE
BEGIN:VEVENT
UID:64373662-6231-4936-b161-323139303361
DTSTAMP:20260420T192555Z
CATEGORIES:Jazzclub
CLASS:PUBLIC
DESCRIPTION;ALTREP="CID:<FFFF__=0ABBE548DFE235B58f9e8a93d@coffeebean.com>":
 »PORTA JAM BAND« –&nbsp\;Jam Session – im BRAUHAUS\nDie PORTA JAM BAND wur
 de uns von dem befreundeten Trierer Jazzclub empfohlen. Ihre Protagonisten
  sind: Rüdiger Garbisch (b)\, Frank Holstein (p)\, Fred Noll (dr) und Mark
 us Pohlen (tb).\nEs ist ein 'Jekami - Konzert'. Jam-Session bedeutet\, Jed
 er kann mitmachen. Die Stammbesetzung gibt uns einen Einblick in Ihr musik
 alisches Treiben und freut sich auf viele Gastmusiker. Die Band rollt eine
 n komfortablen musikalischen Teppich aus\, auf dem sie mit allen Gästen ge
 meinsam jammen können. Bringt alle eure Instrumente mit und beteiligt euch
  aktiv am Konzert. Auf alle Gastmusiker wartet eine Überraschung des Brauh
 auses.
DTSTART:20220202T200000Z
DTEND:20220202T220000Z
GEO:00;0
LOCATION:
ORGANIZER:
SEQUENCE:1
SUMMARY:»PORTA JAM BAND« – Jam Session – im BRAUHAUS
TRANSP:OPAQUE
URL:http://jazztaxi.de/alle-termine/208-session-eleven-jazzclub-im-brauhaus
END:VEVENT
END:VCALENDAR
