BEGIN:VCALENDAR
VERSION:2.0
PRODID:-//Jazz-Initiative Eifel e. V.//NONSGML kigkonsult.se iCalcreator 2.41.92//
CALSCALE:GREGORIAN
METHOD:PUBLISH
UID:39656462-6238-4235-a563-343836373534
X-WR-CALNAME:iCagenda
X-WR-CALDESC:Event Management Extension for Joomla!
X-WR-RELCALID:3E26604A-50F4-4449-8B3E-E4F4932D05B5
X-WR-TIMEZONE:UTC
BEGIN:VTIMEZONE
TZID:UTC
END:VTIMEZONE
BEGIN:VEVENT
UID:30303437-3131-4166-b439-663266626563
DTSTAMP:20260420T154432Z
CATEGORIES:Summer-Jazz Festival
CLASS:PUBLIC
DESCRIPTION;ALTREP="CID:<FFFF__=0ABBE548DFE235B58f9e8a93d@coffeebean.com>":
 Ganz im Zeichen der klassischen Swingmusik steht der Mittwochabend \, 18. 
 Juli\, beim Summer-Jazz 2018. Mit den Seniors kommen echte Swingprofis\, e
 in schwungvoller Abend ist damit garantiert.\nDie erste Hälfte des 20. Jah
 rhunderts war die Zeit\, in der Blues\, Ragtime\, Dixieland und Swing ents
 tanden. In den Ballrooms Nordamerikas wurde getanzt nach der Musik von Geo
 rge Gershwin\, Irving Berlin\, Richard Rodgers und anderen genialen Kompon
 isten.\nSeniors of Swing haben sich dieser wunderschönen Melodien angenomm
 en und interpretieren sie in authentischer Weise.\nZusammen mit einigen au
 sgesuchten deutschen Hits der 20er bis 50er Jahre verfügen Seniors of Swin
 g über einen Fundus von Welterfolgen aus jener Zeit.\nSummer Jazz im Bedag
 arten ist eine Gemeinschaftsveranstaltung der Jazz-Initiative Eifel\, der 
 Kulturgemeinschaft und der Dr.-Hans-Simon-Stiftung.\nDer Auftritt ist am M
 ittwoch\, 18. Juli 2018 ab 19 Uhr.\nwww.jazzei.de\nVeranstaltungsortHaus B
 eda\, BedagartenBedaplatz 154634 Bitburg\nVeranstalterJazz-Initiative Eife
 l e. V. und Partner\nc/o Rolf Mrotzek54668 Holsthum\nTelefon: 06523-933690
 rolf.mrotzek@online.de
DTSTART:20180718T190000Z
DTEND:20180718T213000Z
GEO:00;0
LOCATION:Garten Haus Beda\, Bitburg
ORGANIZER:
SEQUENCE:1
SUMMARY:Seniors of Swing spielen im Bedagarten
TRANSP:OPAQUE
URL:http://jazztaxi.de/alle-termine/2-seniors-of-swing-spielen-im-bedagarte
 n
END:VEVENT
END:VCALENDAR
