BEGIN:VCALENDAR
VERSION:2.0
PRODID:-//Jazz-Initiative Eifel e. V.//NONSGML kigkonsult.se iCalcreator 2.41.92//
CALSCALE:GREGORIAN
METHOD:PUBLISH
UID:65373063-6139-4136-b966-643066616636
X-WR-CALNAME:iCagenda
X-WR-CALDESC:Event Management Extension for Joomla!
X-WR-RELCALID:3E26604A-50F4-4449-8B3E-E4F4932D05B5
X-WR-TIMEZONE:UTC
BEGIN:VTIMEZONE
TZID:UTC
END:VTIMEZONE
BEGIN:VEVENT
UID:32656562-6161-4137-b934-616636393235
DTSTAMP:20260420T170611Z
CATEGORIES:Jazzclub
CLASS:PUBLIC
DESCRIPTION;ALTREP="CID:<FFFF__=0ABBE548DFE235B58f9e8a93d@coffeebean.com>":
 Mit dem Trio Amanova kommt ein junges\, hoch interessantes Trio aus Lothri
 ngen in den Bitburger Jazzclub. Die Sängerin Amélie Richard wird begleitet
  von Gregory Cotti\, Klavier und Bernard Della Nave\, Trompete / Flügelhor
 n.\nDiese sehr ungewöhnliche Besetzung verspricht große musikalische Spann
 ung auf hohem Niveau. Immerhin ist Cotti Professor für Klavier am Conserva
 torium in Metz\, und Trompeter Della Nave hat schon Jazzgrößen wie Bernard
  Soustrot\, Michel Legrand\, Dee Dee Bridgewater\, Charlelie Couture und a
 ndere mehr begleitet.\nDie erste CD mit dem Namen ' On a smoothy way'\, en
 thält 6 Songs. Amanova\, die junge Künstlerin\, gebürtig aus Frankreich\, 
 hat dieses erste Werk mit ihrem Kollegen und Arrangeur Philippe Gatto real
 isiert. Begleitet wird sie von den talentierten Gästen\, wie Jazz-Saxophon
 ist Dominique Gatto\, David Doré\, Gitarrist von der Insel Reunion\, Eric 
 Goubert und Patrice Lerech\, Klarinettist und Trompeter.
DTSTART:20181018T200000Z
DTEND:20181018T223000Z
GEO:00;0
LOCATION:Bitburger Jazzclub\, Brodenheckstr. 15\, 54634 Bitburg
ORGANIZER;CN=:mailto:rolf.mrotzek@online.de
SEQUENCE:1
SUMMARY:Amanova aus Frankreich singt Jazz fürs Gefühl
TRANSP:OPAQUE
URL:http://jazztaxi.de/alle-termine/18-amanova-aus-frankreich-singt-jazz-fu
 ers-gefuehl
END:VEVENT
END:VCALENDAR
