BEGIN:VCALENDAR
VERSION:2.0
PRODID:-//Jazz-Initiative Eifel e. V.//NONSGML kigkonsult.se iCalcreator 2.41.92//
CALSCALE:GREGORIAN
METHOD:PUBLISH
UID:32633639-3331-4061-b137-373035643436
X-WR-CALNAME:iCagenda
X-WR-CALDESC:Event Management Extension for Joomla!
X-WR-RELCALID:3E26604A-50F4-4449-8B3E-E4F4932D05B5
X-WR-TIMEZONE:UTC
BEGIN:VTIMEZONE
TZID:UTC
END:VTIMEZONE
BEGIN:VEVENT
UID:63393539-3335-4166-b139-316266393661
DTSTAMP:20260420T165528Z
CATEGORIES:Matinee
CLASS:PUBLIC
DESCRIPTION;ALTREP="CID:<FFFF__=0ABBE548DFE235B58f9e8a93d@coffeebean.com>":
 Vorstellen muss man das Benno-Raabe-Trio eigentlich nicht mehr in dieser R
 egion. Die Herren sind bekannt. Die Swingmusik ist ihr Metier. Darin kenne
 n sie sich aus. Sie spielen Stücke aus der „klassischen“ Zeit des Swing\, 
 Stücke von Duke Ellington\, Count Basie\, Benny Goodman und anderen. Sie s
 ind sehr vielseitig und sie passen sich immer ihrem Publikum an.\n&nbsp\;
 \nIn dieser Matinée spielen sie im Wechsel mit der Autorin Manu Wirtz. Fra
 u Wirtz schreibt u. a. Krimis über Katzen.\nWas macht eine ganz normale Ha
 uskatze außer jagen\, spielen und fressen? Wenn sie in der Eifel lebt\, ge
 ht sie auf Mörderjagd!Kaum hört die Katze Jule von dem Mord an einem Freun
 d\, will sie den Fall aufklären! Aber wer ist der Mörder? Ist es der Bauer
  mit Rachegelüsten gewesen? Oder der korrupte Landrat? Oder die Windenergi
 efirma\, die hinter dem Stück Land her ist\, das dem Toten gehörte? Da mac
 ht Jule eine sensationelle Entdeckung\, die sie auf die Spur des Mörders b
 ringt! Die Lösung gibt es am 14. 10. 2018.\nDiese Matinée findet statt am 
 Sonntag\, 14. Oktober 2018 von 11 – 12.30 Uhr im Festsaal des Schlosses We
 ilerbach bei Bollendorf.\nDas Ticket kostet 10 Euro\, wer anschließend in 
 der Remise auch noch essen möchte\, zahlt 25\,00 Euro.\nKarten gibt es im 
 Vorverkauf unter Fon 06561-154270.\nMatinée im Schloss ist eine Gemeinscha
 ftsveranstaltung der Jazz-Initiative Eifel und der Schloss-Weilerbach-Gese
 llschaft.
DTSTART:20181014T110000Z
DTEND:20181014T123000Z
GEO:00;0
LOCATION:Schloss Weilerbach\, 54669 Bollendorf-Weilerbach
ORGANIZER:
SEQUENCE:1
SUMMARY:Swing vom Feinsten und spannende Katzenkrimis
TRANSP:OPAQUE
URL:http://jazztaxi.de/alle-termine/16-swing-vom-feinsten-und-spannende-kat
 zenkrimis
END:VEVENT
END:VCALENDAR
