BEGIN:VCALENDAR
VERSION:2.0
PRODID:-//Jazz-Initiative Eifel e. V.//NONSGML kigkonsult.se iCalcreator 2.41.92//
CALSCALE:GREGORIAN
METHOD:PUBLISH
UID:30316565-6665-4139-a138-613461613835
X-WR-CALNAME:iCagenda
X-WR-CALDESC:Event Management Extension for Joomla!
X-WR-RELCALID:3E26604A-50F4-4449-8B3E-E4F4932D05B5
X-WR-TIMEZONE:UTC
BEGIN:VTIMEZONE
TZID:UTC
END:VTIMEZONE
BEGIN:VEVENT
UID:30643466-6432-4064-b163-303562373833
DTSTAMP:20260420T165605Z
CATEGORIES:Jazzclub
CLASS:PUBLIC
DESCRIPTION;ALTREP="CID:<FFFF__=0ABBE548DFE235B58f9e8a93d@coffeebean.com>":
 Die Band Klangcraft des Schlagzeugers Hermann Kock\, des&nbsp\;Bassisten M
 oritz Grenzmann und des Keyborders Manuel Seng verspricht eine verblüffend
 e Performance von drei Musikern\, die wie eine 5-Mann Band klingen.\nIn ih
 rem Konzertprogramm werden Einflüsse aus Pop und Jazz mit meditativen Worl
 dmusic - Sounds\, tanzbaren Clubbeats\, Funkriffs und extravaganten Percus
 sionklängen vermischt. Die Band versteht es\, auch bei leisesten Passagen 
 stets die Spannung aufrecht zu halten.\nHermann Kock gilt als einer der be
 sten und bekanntesten deutschen Drummer und war mit den weltweit erfolgrei
 chen Michael Sagmeister und Peter Giger mehrfach auf Tour und mit der Säng
 erin Maxine Howard europaweit unterwegs. Inspiriert durch seinen ehemalige
 n Lehrmeister Peter Giger\, hat Hermann auf seinem Percussion/Drums- Hybri
 dset\, einen eigenen Stil entwickelt\, den er regelmäßig auf nationalen Dr
 umfestivals eindrucksvoll in seinen Solokompositionen demonstriert. Die Mu
 sik des Trios setzt aber vor allem auf einen starken Bandsound\, der jedes
  Publikum durch seine Dynamik und Einfühlsamkeit berührt.\nDer Bassist Mor
 itz Grenzmann hat an der Musikhochschule Mainz studiert und gilt durch sei
 ne Verbindung von Akkorden und Tappings mit „normalem“ Bassspiel als eines
  der herausragendsten Talente der deutschen Bassszene. Er ist ein gefragte
 r Recording Artist u.a. für den Bluesgitarristen „Timo Gross“ oder die Met
 al Band „Maladie“. Mit seiner eigenen Band „Do the Daktari“ ist er in Sach
 en Afro Beats unterwegs.\nMit dem exzellenten Keyborder Manuel Seng vervol
 lständigt sich das Trio.\nKlangcraft spielen am DO\, 13. September 2018 ab
  20 h im Bitburger Jazzclub\, Brodenheckstr. 15. Eintritt frei.
DTSTART:20180913T200000Z
DTEND:20180913T223000Z
GEO:00;0
LOCATION:Bitburger Jazzclub\, Brodenheckstr. 15\, 54634 Bitburg
ORGANIZER;CN=:mailto:rolf.mrotzek@online.de
SEQUENCE:1
SUMMARY:Klangcraft spielt im Bitburger Jazzclub
TRANSP:OPAQUE
URL:http://jazztaxi.de/alle-termine/15-klangcraft-spielt-im-bitburger-jazzc
 lub
END:VEVENT
END:VCALENDAR
