BEGIN:VCALENDAR
VERSION:2.0
PRODID:-//Jazz-Initiative Eifel e. V.//NONSGML kigkonsult.se iCalcreator 2.41.92//
CALSCALE:GREGORIAN
METHOD:PUBLISH
UID:39636639-3164-4261-b063-396439323335
X-WR-CALNAME:iCagenda
X-WR-CALDESC:Event Management Extension for Joomla!
X-WR-RELCALID:3E26604A-50F4-4449-8B3E-E4F4932D05B5
X-WR-TIMEZONE:UTC
BEGIN:VTIMEZONE
TZID:UTC
END:VTIMEZONE
BEGIN:VEVENT
UID:30396234-3264-4130-b538-373338636633
DTSTAMP:20260420T155109Z
CATEGORIES:Matinee
CLASS:PUBLIC
DESCRIPTION;ALTREP="CID:<FFFF__=0ABBE548DFE235B58f9e8a93d@coffeebean.com>":
 Barockmusik und bekannte Chansons erklingen im Schloss Weilerbach\nBarockm
 usik im barocken Schloss Weilerbach – die sollte auch in diesem Jahr wiede
 r zu hören sein. Dafür konnten die Veranstalter das Duo Sanssouci gewinnen
 .\nSolisten des Duo Sanssouci sind die koreanische Flötistin Sohee Oh und 
 der Cembalist Hans - Jürgen Thoma. Beide sind Mitglieder des Trio Sanssouc
 i\, das im vergangenen Jahr mit seinem Konzert auf Schloss Weilerbach sehr
  warmherzig und begeistert empfangen wurde und schönen Nachhall fand.\nDas
  Ensemble besteht seit mehr als 25 Jahren\, kann zurück schauen auf mehr a
 ls 1400 Konzerte\, Radioeinspielungen und vier CD – Produktionen sowie Auf
 zeichnungen bei Arte und 3sat. Spielfreude und Witz sind genauso Kennzeich
 en der Musiker \, wie authentische Wiedergabe und Virtuosität.\nIm Wechsel
  mit dem Duo Sanssouci wird die Sängerin Gisela Wagner bekannte deutsche u
 nd französische Chansons\, u. a. von Gilbert Becaud \, Dalida\, Marlene Di
 etrich\, Hildegard Knef\, Edith Piaf und Zarah Leander singen. Begleitet w
 ird sie am Flügel von dem Pianisten Norbert Schmitz.\n\nDiese Matinée find
 et statt am Sonntag\, 09. September 2018 von 11 – 12.30 Uhr im Festsaal de
 s Schlosses Weilerbach bei Bollendorf.\nDas Ticket kostet 10 Euro\, wer an
 schließend in der Remise auch noch essen möchte\, zahlt 25\,00 Euro.\nKart
 en gibt es im Vorverkauf unter Fon 06561-154270.\nMatinée im Schloss ist e
 ine Gemeinschaftsveranstaltung der Jazz-Initiative Eifel und der Schloss-W
 eilerbach-Gesellschaft.\nwww.jazzei.de\nwww.facebook.com/jazzeifel
DTSTART:20180909T110000Z
DTEND:20180909T123000Z
GEO:00;0
LOCATION:Schloss Weilerbach\, 54669 Bollendorf-Weilerbach
ORGANIZER;CN=:mailto:rolf.mrotzek@online.de
SEQUENCE:1
SUMMARY:Barockmusik und bekannte Chansons erklingen im Schloss Weilerbach
TRANSP:OPAQUE
URL:http://jazztaxi.de/alle-termine/14-barockmusik-und-bekannte-chansons-er
 klingen-im-schloss-weilerbach
END:VEVENT
END:VCALENDAR
