BEGIN:VCALENDAR
VERSION:2.0
PRODID:-//Jazz-Initiative Eifel e. V.//NONSGML kigkonsult.se iCalcreator 2.41.92//
CALSCALE:GREGORIAN
METHOD:PUBLISH
UID:64623138-3966-4831-b330-303766326233
X-WR-CALNAME:iCagenda
X-WR-CALDESC:Event Management Extension for Joomla!
X-WR-RELCALID:3E26604A-50F4-4449-8B3E-E4F4932D05B5
X-WR-TIMEZONE:UTC
BEGIN:VTIMEZONE
TZID:UTC
END:VTIMEZONE
BEGIN:VEVENT
UID:32303664-3330-4532-b063-383335313439
DTSTAMP:20260420T154248Z
CATEGORIES:Summer-Jazz Festival
CLASS:PUBLIC
DESCRIPTION;ALTREP="CID:<FFFF__=0ABBE548DFE235B58f9e8a93d@coffeebean.com>":
 Die Swingmusik ist ihr Metier. Darin kennen sie sich aus. Sie spielen Stüc
 ke aus der „klassischen“ Zeit des Swing\, Stücke von Duke Ellington\, Coun
 t Basie\, Benny Goodman und anderen. Stücke\, die jeder kennt und die imme
 r wieder gern gehört werden. Sie spielen für ihr Publikum und pflegen dabe
 i ihren typischen musikalischen Stil.\nGelegentliche musikalische Ausflüge
  in die moderne und anspruchsvolle Popmusik sind ihnen durchaus vertraut.
 \nSie spielen in der Besetzung\nBenno Raabe\, Piano\, Giselher Spath\, Sax
 ofone und Rolf Mrotzek\, Kontrabass und Stefan Spies\, Schlagzeug.\nUnd da
 mit wird deutlich\, dass sie dezente Musik machen und keine Trommelfelle s
 trapazieren.\nDieses Abschlusskonzert findet statt am Mittwoch\, 29. Augus
 t 2018 ab 19 Uhr.\nSummer Jazz im Bedagarten ist eine Gemeinschaftsveranst
 altung der Jazz-Initiative Eifel\, der Kulturgemeinschaft Bitburg und der 
 Dr.-Hanns-Simon-Stiftung.\nVeranstalterJazz-Initiative Eifel e. V. und Par
 tner\nc/o Rolf Mrotzek54668 Holsthum\nTelefon: 06523-933690rolf.mrotzek@on
 line.de
DTSTART:20180829T190000Z
DTEND:20180829T213000Z
GEO:00;0
LOCATION:Garten Haus Beda\, Bitburg
ORGANIZER:
SEQUENCE:1
SUMMARY:Zum Abschluss spielt das Benno-Raabe-Quartett im Bedagarten
TRANSP:OPAQUE
URL:http://jazztaxi.de/alle-termine/13-zum-abschluss-spielt-das-benno-raabe
 -quartett-im-bedagarten
END:VEVENT
END:VCALENDAR
