BEGIN:VCALENDAR
VERSION:2.0
PRODID:-//Jazz-Initiative Eifel e. V.//NONSGML kigkonsult.se iCalcreator 2.41.92//
CALSCALE:GREGORIAN
METHOD:PUBLISH
UID:30346564-3166-4534-b632-633665316338
X-WR-CALNAME:iCagenda
X-WR-CALDESC:Event Management Extension for Joomla!
X-WR-RELCALID:3E26604A-50F4-4449-8B3E-E4F4932D05B5
X-WR-TIMEZONE:UTC
BEGIN:VTIMEZONE
TZID:UTC
END:VTIMEZONE
BEGIN:VEVENT
UID:31333137-3239-4437-b536-323366353764
DTSTAMP:20260420T154356Z
CATEGORIES:Allgemein
CLASS:PUBLIC
DESCRIPTION;ALTREP="CID:<FFFF__=0ABBE548DFE235B58f9e8a93d@coffeebean.com>":
 Sie stehen nicht gerade im Mittelpunkt der aktuellen Musikrichtungen\, es 
 gibt sie aber schon seit Jahrhunderten. Auch in unserer Region sind sie ak
 tiv.\nMit dieser Veranstaltung wollen die Schloss-Weilerbach-Gesellschaft 
 und die Jazz-Initiative Eifel Akteuren dieser Musiksparte in einem passend
 en Ambiente ein Forum bieten.\nUnter freiem Himmel werden Musikerinnen und
  Musiker an einem Sommerabend auf Schloss Weilerbach ihre Lieder vortragen
 \, und zwar am\nSamstag\, 25. August 2018.\nBeginn des Bühnenprogramms ist
  19 Uhr. Jede Künstlerin\, jeder Künstler singt 2 x 20 Minuten\, sodass ge
 gen 22 Uhr das Bühnenprogramm beendet sein wird.\nSylvia Nels\, Gitarre\, 
 Liedermacherin aus Ingendorf in der Eifel\, präsentiert Lieder aus ihrem P
 rogramm “Musik op Platt\, fier Hern un Hatt!“ Die liebevoll komponierten L
 ieder in moselfränkischer Mundart spiegeln die Lebensweise und Eigenarten 
 der Eifeler\, teils ernst teils amüsant und mit einem Augenzwinkern wider\
 , getreu dem Motto: Bleiw doch\, wie de Bass!\nIra Barwick\, Gitarre\, sin
 gt Songs vom Weggehen und Ankommen. Die Kompositionen sind englischsprachi
 ge Songs verschiedener Genres und werden mit eigenwilligen Klangfarben vor
 getragen.\n&nbsp\;\nAnja Sachs\, sie spielt Klavier\, präsentiert Lieder\,
  die dem rastlosen Geist der heutigen Zeit entgegenwirken. Ihre poetischen
  Texte berühren\, bewegen\, animieren zum Lachen oder zum Träumen. Ihre Mu
 sik erinnert an Reinhard Mey und andere deutschsprachige Liedermacher.\n\n
 Jonas Noack\, Gitarre\, ist der einzige Mann in diesem Programm. Der in Fr
 ankreich aufgewachsene ist über mehrere musikalische Stationen nach Frankf
 urt gelangt\, wo er lebt\, studiert und englischsprachige Songs schreibt. 
 Ausgehend von den Ausläufern der amerikanischen Folk Tradition und inspiri
 ert von einer Leidenschaft für Kunst und Literatur entwirft er musikalisch
 e Momentaufnahmen\, bei denen er persönliche Beobachtungen in eindrücklich
 e Texte verpackt. Während der Arbeit an den Songs für sein erstes Album ha
 t er sich durch zahlreiche Auftritte\, unter anderen mit Markus Rill\, Ste
 phen Simmons oder auf dem Germanicana Folk Festival\, als eines der vielve
 rsprechendsten Talente der regionalen Singer-Songwriter Szene bewiesen.\nP
 assend zum Musikangebot bietet die Gastronomie eine gepflegte Versorgung d
 er Gäste mit Getränken und Essbarem.\nBei ungünstigem Wetter wird die Vera
 nstaltung in den Festsaal des Schlosses verlegt.\nDer Eintrittspreis beträ
 gt 10 Euro.
DTSTART:20180825T190000Z
DTEND:20180825T220000Z
GEO:00;0
LOCATION:Schloss Weilerbach\, 54669 Bollendorf-Weilerbach
ORGANIZER;CN=:mailto:rolf.mrotzek@online.de
SEQUENCE:1
SUMMARY:Open-Air Singer-Songwriter-Summit auf Schloss Weilerbach 2018
TRANSP:OPAQUE
URL:http://jazztaxi.de/alle-termine/12-open-air-singer-songwriter-summit-au
 f-schloss-weilerbach-2018
END:VEVENT
END:VCALENDAR
