BEGIN:VCALENDAR
VERSION:2.0
PRODID:-//Jazz-Initiative Eifel e. V.//NONSGML kigkonsult.se iCalcreator 2.41.92//
CALSCALE:GREGORIAN
METHOD:PUBLISH
UID:32363730-3632-4262-b665-366430323037
X-WR-CALNAME:iCagenda
X-WR-CALDESC:Event Management Extension for Joomla!
X-WR-RELCALID:3E26604A-50F4-4449-8B3E-E4F4932D05B5
X-WR-TIMEZONE:UTC
BEGIN:VTIMEZONE
TZID:UTC
END:VTIMEZONE
BEGIN:VEVENT
UID:33366231-6433-4934-a530-306136666234
DTSTAMP:20260420T180343Z
CATEGORIES:Allgemein
CLASS:PUBLIC
DESCRIPTION;ALTREP="CID:<FFFF__=0ABBE548DFE235B58f9e8a93d@coffeebean.com>":
 Das einzige Bass-Saxophon-Quartett des Universums stellt das neue\, fünfte
  Album 'The Dark Side Of Deep Schrott Vol.3' vor. Vergessen Sie alles\, wa
 s Sie bisher über Blasmusik gehört haben - Here‘s the Real Heavy Metal!
DTSTART:20200119T180000Z
DTEND:20200119T180000Z
GEO:00;0
LOCATION:Faberludens
ORGANIZER;CN=:mailto:Info@faberludens.de
SEQUENCE:1
SUMMARY:Deep Schrott
TRANSP:OPAQUE
URL:http://jazztaxi.de/alle-termine/116-deep-schrott/2020-01-19-18-00
END:VEVENT
END:VCALENDAR
