BEGIN:VCALENDAR
VERSION:2.0
PRODID:-//Jazz-Initiative Eifel e. V.//NONSGML kigkonsult.se iCalcreator 2.41.92//
CALSCALE:GREGORIAN
METHOD:PUBLISH
UID:61383261-3938-4530-b733-313462363061
X-WR-CALNAME:iCagenda
X-WR-CALDESC:Event Management Extension for Joomla!
X-WR-RELCALID:3E26604A-50F4-4449-8B3E-E4F4932D05B5
X-WR-TIMEZONE:UTC
BEGIN:VTIMEZONE
TZID:UTC
END:VTIMEZONE
BEGIN:VEVENT
UID:63316565-3139-4433-a665-633438623064
DTSTAMP:20260420T154357Z
CATEGORIES:Allgemein
CLASS:PUBLIC
DESCRIPTION;ALTREP="CID:<FFFF__=0ABBE548DFE235B58f9e8a93d@coffeebean.com>":
 Bert Enkel\, ein Musiker\, der sich den traditionellen Jazzformen verpflic
 htet fühlt. Ganz gleich ob er swingt\, Bossanova oder Blues spielt oder ga
 r eine gefühlvolle Jazzballade 'zelebriert'\, die scheinbar mühelose Bewäl
 tigung technischer Schwierigkeiten wie auch die für eine Sologitarre verbl
 üffende Klangfülle verraten stets den klassisch ausgebildeten Gitarristen.
  Bonner Generalanzeiger\nEintritt 10\,- € VVK\, 13\,- € AK\nVeranstaltungs
 ort\nDauner WeinladenBorngasse 154550 Daun\nweitere Informationen http://D
 auner-Weinladen.de
DTSTART:20180824T190000Z
DTEND:20180824T210000Z
GEO:00;0
LOCATION:Borngasse 1\, 54550 Daun
ORGANIZER:
SEQUENCE:1
SUMMARY:Crossover - Bert Enkel präsentiert Titel aus Klassik\, Swing\, Blue
 s\, Bossa und Folk
TRANSP:OPAQUE
URL:http://jazztaxi.de/alle-termine/11-crossover-bert-enkel-praesentiert-ti
 tel-aus-klassik-swing-blues-bossa-und-folk
END:VEVENT
END:VCALENDAR
